BEGIN:VCALENDAR
VERSION:2.0
PRODID:Events Booking
BEGIN:VEVENT
UID:69ed4a92c495f
SUMMARY:Bewegung und Physik
DESCRIPTION:Ab der 4. Klasse Volksschule bis ca. 16 J.
DTSTART:20240325T130000Z
DTEND:20240325T160000Z
DTSTAMP:20240402T131337Z
ORGANIZER;CN=Astromum - Dr. M. F. Nieva:MAILTO:fernanda_nieva@astromum.com
END:VEVENT
END:VCALENDAR