BEGIN:VCALENDAR
VERSION:2.0
PRODID:Events Booking
BEGIN:VEVENT
UID:69ec35c04f0f3
SUMMARY:Origins of the Elements
DESCRIPTION:&nbsp\; &nbsp\;&nbsp\;The carbon in our cells\, the oxygen in t
 he air\, the silicon in rocks\, and just about every element\, were all fo
 rged inside ancient stars before being strewn across the universe when the
  stars exploded. As an expert in determining the chemical composition of s
 tars\, I will introduce you to a fascinating journey of elements in the un
 iverse\, where do we find them on Earth and how can we use them.
 We will
  follow my self-developed teaching method Mindful Focus in Nature:&nbsp\;a
  new holistic and immersive method based on the&nbsp\;well-being of the pa
 rticipant in order to achive maximum concentration on the topic of study.
 
 Ages:&nbsp\;10-99.&nbsp\; &nbsp\; &nbsp\;Parents are welcome for free.&n
 bsp\;
 Price: 130 EUR&nbsp\; (100 EUR for previous participants or siblin
 gs)
 ONLY FOR MOTIVATED PARTICIPANTS - ACCEPTANCE AFTER A SHORT INTERVIEW
 .
 Meeting point: Bus J stop \"Alte Talstation\" on Monday 7.7.25 at 9:30
  hs. What to bring: comfortable clothes and shoes for the forest\, healthy
  snacks for 4 hs\, water\, block and pencil for notes and drawings\, favor
 ite relaxing music for breaks\, favorite essential oil\, a pillow\, matt a
 nd thin blanket for a mindful body scan\, tick repellent. Not suspended in
  case of rain. More details will follow.
DTSTART:20250707T080000Z
DTEND:20250709T120000Z
DTSTAMP:20250515T160923Z
ORGANIZER;CN=Astromum - Dr. M. F. Nieva:MAILTO:fernanda_nieva@astromum.com
END:VEVENT
END:VCALENDAR