BEGIN:VCALENDAR
VERSION:2.0
PRODID:Events Booking
BEGIN:VEVENT
UID:69ec36165e9ad
SUMMARY:Ursprung der chemischen Elemente II
DESCRIPTION:&nbsp\; &nbsp\;&nbsp\;
 &nbsp\; &nbsp\; &nbsp\; Der Kohlenstof
 f in unseren Zellen\, der Sauerstoff&nbsp\;in der Luft\, das Silizium in G
 esteinen und nahezu jedes Element wurden in urzeitlichen Sternen gebildet 
 und durch deren Explosionen im Universum verbreitet. 
 Als Astrophysikeri
 n und Expertin für die Bestimmung der chemischen Zusammensetzung von Ster
 nen führe ich dich auf eine faszinierende Reise der Elemente im Universum
  ein\, erkunde\, wo wir sie auf der Erde finden und wie wir sie nutzen kö
 nnen. 
 Wir folgen einer neuen ganzheitlichen und immersiven Methode\, di
 e auf dem Wohlbefinden der Teilnehmer basiert\, um maximale Konzentration 
 auf das Lernthema zu erreichen. Es wird erwartet\, dass du einige Videos a
 m Abend schaust und ein bisschen liest.
 Alter: ab 12 bis 99 :-). Eltern 
 sind herzlich willkommen und haben freien Eintritt.&nbsp\;
  NUR FÜR MOT
 IVIERTE TEILNEHMER – ZUSAGE NACH EINEM KURZEN GESPRÄCH. 
 Empfohlenes 
 Buch:&nbsp\;Alles ist Chemie!: Die chemischen Elemente und wie wir sie nut
 zen&nbsp\;by&nbsp\;DK Verlag - Kids&nbsp\;(Editor)
 Treffpunkt: Bus J Hal
 testelle „Alte Talstation“ am Donnerstag 14.8.25\, um 9:30 Uhr. 
 Mit
 zubringen sind: bequeme Kleidung und Schuhe für den Wald\, gesunde Snacks
  für 4 Stunden\, Wasser\, Block und Bleistift für Notizen und Zeichnunge
 n\, Kopfhörer\, entspannende Lieblingsmusik für die Pausen\, ätherische
 s Lieblingsöl\, ein Kissen\, eine matte und dünne Decke für einen achts
 amen Körperscan\, Zeckenschutz. Bei Regen nicht ausgesetzt. Weitere Detai
 ls folgen.
DTSTART:20250814T080000Z
DTEND:20250816T120000Z
DTSTAMP:20250515T160923Z
ORGANIZER;CN=Astromum - Dr. M. F. Nieva:MAILTO:fernanda_nieva@astromum.com
END:VEVENT
END:VCALENDAR