BEGIN:VCALENDAR
VERSION:2.0
PRODID:Events Booking
BEGIN:VEVENT
UID:69ec349bd71af
SUMMARY:Nachthimmel Beobachtung mit bloßem Auge am Patscherkofel III
DESCRIPTION:Sterne\, Planeten\, Konstellationen\, Hubble\, ISS oder Satelli
 ten im Himmel entdecken. Jetzt wird es dunkel eine Stunde früher als in J
 uni!&nbsp\; Der Plan: wir marschieren ein Stück und machen es uns gemütl
 ich\, um den Sonnenuntergang zu beobachten (20:15 Uhr). Langsam erscheint 
 der erster Planet... Je dunkler wird\, desto mehr Objekte entdecken wir.&n
 bsp\;App: Stellarium oder SkyMap schon auf deinem Handy bereit haben (dunk
 el Modus).
 Welche Sterne sehen wir als erstes? Arcturus? Vega? Deneb? We
 lche Farben haben sie? Temperatur? Masse? In welchem Stadium ihren Leben s
 ind sie? Wie kann man sie studieren? Was ist Spektroskopie? Wir werden ein
  bisschen Astrophysik und Physik lernen (Schall &amp\; Elektromagnetische 
 Wellen) und das Verhalten von einem Schwarzen Loch im Universum.
 Mitnehm
 en: warme Kleidung\, Matte\, Decke oder Schlafsack\, Thermoskanne\, Jause 
 und ein Erwachsene
 
 Wann: 21.08.2025
 Zeit: 19:00-22:30 Uhr Uhr&nbsp\
 ;
 Treffpunkt: Talstation Patscherkofelbahn
 Kosten: 10 € pro Familie
 
 Die Fahrt ist selbst zu bezahlen
 
 Bei Schlechtem Wetter\, wird die V
 eranstaltung abgesagt!&nbsp\;
 &nbsp\;
 Wichtige Daten:&nbsp\;
 
 
 
 
 Sonnenuntergang
 20:15
 &nbsp\;
 
 
 Bürg. Abenddämmerung
 20:15
  - 20:48
 32 Min.
 
 
 Naut. Abenddämmerung
 20:48 - 21:28
 40 Min.
 
 
 
 Astron. Abenddämmerung
 21:28 - 22:13
 44 Min.
 
 
 
 Mond
 phase:&nbsp\;abnehmend&nbsp\;/&nbsp\;4. Viertel.
 Monduntergang: 19:45 Uh
 r
DTSTART:20250821T170000Z
DTEND:20250821T210000Z
DTSTAMP:20250607T151550Z
ORGANIZER;CN=Astromum - Dr. M. F. Nieva:MAILTO:fernanda_nieva@astromum.com
END:VEVENT
END:VCALENDAR