BEGIN:VCALENDAR
VERSION:2.0
PRODID:Events Booking
BEGIN:VEVENT
UID:69eb79d83949c
SUMMARY:Skiphysik
DESCRIPTION:Vor der Skisaison\, lernen wir ein bisschen Biomechanik des Ski
 fahrens?
DTSTART:20251122T090000Z
DTEND:20251122T110000Z
DTSTAMP:20240402T131829Z
ORGANIZER;CN=Astromum - Dr. M. F. Nieva:MAILTO:fernanda_nieva@astromum.com
END:VEVENT
END:VCALENDAR