BEGIN:VCALENDAR
VERSION:2.0
PRODID:Events Booking
BEGIN:VEVENT
UID:69eb7d92d24ed
SUMMARY:Erlebe die Natur – erkenne die Physik! Ein achtsamer Workshop fü
 r Frauen
DESCRIPTION:Achtsamkeit und Beobachtung von Naturphänomenen und Technik in
  unserer Umgebung. Ganz entspannt...
 Das Ziel:&nbsp\;Frauen in unserer G
 esellschaft grundlegende physikalische Konzepte für den Alltag zu vermitt
 eln (keine Vorkenntnisse erforderlich).
 
 Die&nbsp\;Lernmethode MFN kon
 zentriert sich auf das Wohlbefinden des Menschen und beginnt mit einer kur
 zen Meditation.&nbsp\;Der zweite Teil konzentriert sich auf die achtsame B
 eobachtung der Umwelt und das Lernen mit verschiedenen Sinnen und Strategi
 en für&nbsp\;kurze Zeiträume.&nbsp\;
 Mitzubringen: ein Notizbuch und B
 untstifte\, lieblings-ätherisches Öl\, eine Matte und eine Decke zum Ent
 spannen\,&nbsp\;Kopfhörer zum Musikhören. Und eine leckere Jause und Get
 ränke für die Pausen.
 Kosten:&nbsp\;Ein kleiner Beitrag reicht aus (um
  einige Reisekosten zu decken)
 Treffpunkt: Eingang zum Pötzleinsdorfer 
 Park in 1180 Wien\, oberhalb der Endstation Straßenbahnlinie 41\, „bei 
 den Löwen“
 Zeit: 10 bis 12 Uhr
DTSTART:20250729T080000Z
DTEND:20250729T100000Z
DTSTAMP:20250607T145628Z
ORGANIZER;CN=Astromum - Dr. M. F. Nieva:MAILTO:fernanda_nieva@astromum.com
END:VEVENT
END:VCALENDAR